BEGIN:VCALENDAR
VERSION:2.0
PRODID:icalendar-ruby
CALSCALE:GREGORIAN
METHOD:PUBLISH
BEGIN:VEVENT
DTSTAMP:20260421T033936Z
UID:40-1373232@oursafeharbor.com
DTSTART;VALUE=DATE:20261030
DTEND;VALUE=DATE:20261030
CLASS:PUBLIC
CREATED:20260420T185808
DESCRIPTION:Voices of OSHC
LAST-MODIFIED:20260420T185808
LOCATION:
SUMMARY:Voices of OSHC
URL;VALUE=URI:https://www.oursafeharbor.com/events/voices-of-oshc/2026-10-3
 0
ATTACH;FILENAME=Voices_WEBSITE_thumb.jpg;FMTTYPE=image/jpeg:https://dq5pwpg
 1q8ru0.cloudfront.net/2023/07/05/15/34/16/e2cb6957-66b6-46b7-958c-3b857b9e
 6f26/Voices_WEBSITE_thumb.jpg
END:VEVENT
END:VCALENDAR
